BEGIN:VCALENDAR
VERSION:2.0
PRODID:spatie/icalendar-generator
DESCRIPTION:Events from City of Wayland
X-WR-CALDESC:Events from City of Wayland
REFRESH-INTERVAL;VALUE=DURATION:PT1440M
X-PUBLISHED-TTL:PT1440M
BEGIN:VTIMEZONE
TZID:America/Detroit
BEGIN:STANDARD
DTSTART:20251102T020000Z
TZOFFSETFROM:-0400
TZOFFSETTO:-0500
END:STANDARD
BEGIN:DAYLIGHT
DTSTART:20260308T020000Z
TZOFFSETFROM:-0500
TZOFFSETTO:-0400
END:DAYLIGHT
BEGIN:STANDARD
DTSTART:20261101T020000Z
TZOFFSETFROM:-0400
TZOFFSETTO:-0500
END:STANDARD
END:VTIMEZONE
BEGIN:VTIMEZONE
TZID:UTC
BEGIN:STANDARD
DTSTART:20250728T230245Z
TZOFFSETFROM:+0000
TZOFFSETTO:+0000
END:STANDARD
END:VTIMEZONE
BEGIN:VEVENT
UID:1196-237
DTSTAMP:20260424T230245Z
SUMMARY:Open 7am - 3pm
LOCATION:
ORGANIZER;CN=kengel:MAILTO:kengel@cityofwayland.org
DTSTART;TZID=America/Detroit:20260401T070000
DTEND;TZID=America/Detroit:20260401T150000
X-ALT-DESC;FMTTYPE=TEXT/HTML:
CATEGORIES:Police Department
URL;VALUE=URI:https://www.cityofwayland.org/mc-events/open-7am-3pm-35/
METHOD:PUBLISH
END:VEVENT
BEGIN:VEVENT
UID:1237-277
DTSTAMP:20260424T230245Z
SUMMARY:Open 7am - 3pm
LOCATION:
ORGANIZER;CN=kengel:MAILTO:kengel@cityofwayland.org
DTSTART;TZID=America/Detroit:20260402T070000
DTEND;TZID=America/Detroit:20260402T150000
X-ALT-DESC;FMTTYPE=TEXT/HTML:
CATEGORIES:Police Department
URL;VALUE=URI:https://www.cityofwayland.org/mc-events/open-7am-3pm-53/
METHOD:PUBLISH
END:VEVENT
BEGIN:VEVENT
UID:1198-239
DTSTAMP:20260424T230245Z
SUMMARY:Open 9am - 5pm
LOCATION:
ORGANIZER;CN=kengel:MAILTO:kengel@cityofwayland.org
DTSTART;TZID=America/Detroit:20260406T090000
DTEND;TZID=America/Detroit:20260406T170000
X-ALT-DESC;FMTTYPE=TEXT/HTML:
CATEGORIES:Police Department
URL;VALUE=URI:https://www.cityofwayland.org/mc-events/open-9am-5pm-5/
METHOD:PUBLISH
END:VEVENT
BEGIN:VEVENT
UID:713-91
DTSTAMP:20260424T230245Z
SUMMARY:City Council Meeting (1st Monday of each month)
LOCATION:City Hall 103 SOUTH MAIN STREET  WAYLAND MI 49348
ORGANIZER;CN=Lee Ann:MAILTO:lclausen@cityofwayland.org
RRULE:FREQ=MONTHLY;BYDAY=1MO;UNTIL=20310101T000000Z
DTSTART;TZID=America/Detroit:20260406T190000
DTEND;TZID=America/Detroit:20260406T203600
X-ALT-DESC;FMTTYPE=TEXT/HTML:Please enter through the back door in alley Ag
 endas\, Minutes and Packets can be found HERE Meetings are scheduled for t
 he 1st and 3rd of each month.
CATEGORIES:City Council Meetings
URL;VALUE=URI:https://www.cityofwayland.org/mc-events/city-council-meeting-
 1st-monday-of-each-month/?mc_id=713
METHOD:PUBLISH
END:VEVENT
BEGIN:VEVENT
UID:1199-240
DTSTAMP:20260424T230245Z
SUMMARY:Open 7am - 3pm
LOCATION:
ORGANIZER;CN=kengel:MAILTO:kengel@cityofwayland.org
DTSTART;TZID=America/Detroit:20260407T070000
DTEND;TZID=America/Detroit:20260407T150000
X-ALT-DESC;FMTTYPE=TEXT/HTML:
CATEGORIES:Police Department
URL;VALUE=URI:https://www.cityofwayland.org/mc-events/open-7am-3pm-43/
METHOD:PUBLISH
END:VEVENT
BEGIN:VEVENT
UID:1238-278
DTSTAMP:20260424T230245Z
SUMMARY:Open 7am - 3pm
LOCATION:
ORGANIZER;CN=kengel:MAILTO:kengel@cityofwayland.org
DTSTART;TZID=America/Detroit:20260409T070000
DTEND;TZID=America/Detroit:20260409T150000
X-ALT-DESC;FMTTYPE=TEXT/HTML:
CATEGORIES:Police Department
URL;VALUE=URI:https://www.cityofwayland.org/mc-events/open-7am-3pm-59/
METHOD:PUBLISH
END:VEVENT
BEGIN:VEVENT
UID:1201-242
DTSTAMP:20260424T230245Z
SUMMARY:Open 7am - 3pm
LOCATION:
ORGANIZER;CN=kengel:MAILTO:kengel@cityofwayland.org
DTSTART;TZID=America/Detroit:20260413T070000
DTEND;TZID=America/Detroit:20260413T150000
X-ALT-DESC;FMTTYPE=TEXT/HTML:
CATEGORIES:Police Department
URL;VALUE=URI:https://www.cityofwayland.org/mc-events/open-7am-3pm-51/
METHOD:PUBLISH
END:VEVENT
BEGIN:VEVENT
UID:466-9
DTSTAMP:20260424T230245Z
SUMMARY:Planning Commission Meeting
LOCATION:City Hall 103 SOUTH MAIN STREET  WAYLAND MI 49348
ORGANIZER;CN=kengel:MAILTO:kengel@cityofwayland.org
RRULE:FREQ=MONTHLY;BYDAY=2TU;UNTIL=20300910T000000Z
DTSTART;TZID=America/Detroit:20260414T190000
DTEND;TZID=America/Detroit:20260414T200000
X-ALT-DESC;FMTTYPE=TEXT/HTML:
CATEGORIES:General
URL;VALUE=URI:https://www.cityofwayland.org/mc-events/planning-commission-m
 eeting-cancelled/?mc_id=466
METHOD:PUBLISH
END:VEVENT
BEGIN:VEVENT
UID:1202-243
DTSTAMP:20260424T230245Z
SUMMARY:Open 7am - 3pm
LOCATION:
ORGANIZER;CN=kengel:MAILTO:kengel@cityofwayland.org
DTSTART;TZID=America/Detroit:20260415T070000
DTEND;TZID=America/Detroit:20260415T150000
X-ALT-DESC;FMTTYPE=TEXT/HTML:
CATEGORIES:Police Department
URL;VALUE=URI:https://www.cityofwayland.org/mc-events/open-7am-3pm-52/
METHOD:PUBLISH
END:VEVENT
BEGIN:VEVENT
UID:1239-279
DTSTAMP:20260424T230245Z
SUMMARY:Open 7am - 3pm
LOCATION:
ORGANIZER;CN=kengel:MAILTO:kengel@cityofwayland.org
DTSTART;TZID=America/Detroit:20260416T070000
DTEND;TZID=America/Detroit:20260416T150000
X-ALT-DESC;FMTTYPE=TEXT/HTML:
CATEGORIES:Police Department
URL;VALUE=URI:https://www.cityofwayland.org/mc-events/open-7am-3pm-62/
METHOD:PUBLISH
END:VEVENT
BEGIN:VEVENT
UID:370-8
DTSTAMP:20260424T230245Z
SUMMARY:DDA Meeting
LOCATION:City Hall 103 SOUTH MAIN STREET  WAYLAND MI 49348
ORGANIZER;CN=kengel:MAILTO:kengel@cityofwayland.org
RRULE:FREQ=MONTHLY;BYDAY=3TH;UNTIL=20300919T000000Z
DTSTART;TZID=America/Detroit:20260416T080000
DTEND;TZID=America/Detroit:20260416T090000
X-ALT-DESC;FMTTYPE=TEXT/HTML:
CATEGORIES:General
URL;VALUE=URI:https://www.cityofwayland.org/mc-events/dda-meeting-canceled/
 ?mc_id=370
METHOD:PUBLISH
END:VEVENT
BEGIN:VEVENT
UID:1204-245
DTSTAMP:20260424T230245Z
SUMMARY:Open 9am - 5pm
LOCATION:
ORGANIZER;CN=kengel:MAILTO:kengel@cityofwayland.org
DTSTART;TZID=America/Detroit:20260420T090000
DTEND;TZID=America/Detroit:20260420T170000
X-ALT-DESC;FMTTYPE=TEXT/HTML:
CATEGORIES:Police Department
URL;VALUE=URI:https://www.cityofwayland.org/mc-events/open-9am-5pm-6/
METHOD:PUBLISH
END:VEVENT
BEGIN:VEVENT
UID:637-89
DTSTAMP:20260424T230245Z
SUMMARY:City Council Meeting (3rd Monday of each month)
LOCATION:City Hall 103 SOUTH MAIN STREET  WAYLAND MI 49348
ORGANIZER;CN=Lee Ann:MAILTO:lclausen@cityofwayland.org
RRULE:FREQ=MONTHLY;BYDAY=3MO;UNTIL=20310101T000000Z
DTSTART;TZID=America/Detroit:20260420T190000
DTEND;TZID=America/Detroit:20260420T200000
X-ALT-DESC;FMTTYPE=TEXT/HTML:Please enter through the back door in alley Ag
 endas\, Minutes and Packets can be found HERE
CATEGORIES:City Council Meetings,  DDA Meetings,  Planning Commission Meeti
 ngs
URL;VALUE=URI:https://www.cityofwayland.org/mc-events/city-council-meeting-
 3rd-monday-of-each-month/?mc_id=637
METHOD:PUBLISH
END:VEVENT
BEGIN:VEVENT
UID:1205-246
DTSTAMP:20260424T230245Z
SUMMARY:Open 7am - 3pm
LOCATION:
ORGANIZER;CN=kengel:MAILTO:kengel@cityofwayland.org
DTSTART;TZID=America/Detroit:20260421T070000
DTEND;TZID=America/Detroit:20260421T150000
X-ALT-DESC;FMTTYPE=TEXT/HTML:
CATEGORIES:Police Department
URL;VALUE=URI:https://www.cityofwayland.org/mc-events/open-7am-3pm-54/
METHOD:PUBLISH
END:VEVENT
BEGIN:VEVENT
UID:1206-247
DTSTAMP:20260424T230245Z
SUMMARY:Open 7am - 3pm
LOCATION:
ORGANIZER;CN=kengel:MAILTO:kengel@cityofwayland.org
DTSTART;TZID=America/Detroit:20260423T070000
DTEND;TZID=America/Detroit:20260423T150000
X-ALT-DESC;FMTTYPE=TEXT/HTML:
CATEGORIES:Police Department
URL;VALUE=URI:https://www.cityofwayland.org/mc-events/open-7am-3pm-55/
METHOD:PUBLISH
END:VEVENT
BEGIN:VEVENT
UID:1207-248
DTSTAMP:20260424T230245Z
SUMMARY:Open 7am - 3pm
LOCATION:
ORGANIZER;CN=kengel:MAILTO:kengel@cityofwayland.org
DTSTART;TZID=America/Detroit:20260427T070000
DTEND;TZID=America/Detroit:20260427T150000
X-ALT-DESC;FMTTYPE=TEXT/HTML:
CATEGORIES:Police Department
URL;VALUE=URI:https://www.cityofwayland.org/mc-events/open-7am-3pm-56/
METHOD:PUBLISH
END:VEVENT
BEGIN:VEVENT
UID:1208-249
DTSTAMP:20260424T230245Z
SUMMARY:Open 7am - 3pm
LOCATION:
ORGANIZER;CN=kengel:MAILTO:kengel@cityofwayland.org
DTSTART;TZID=America/Detroit:20260429T070000
DTEND;TZID=America/Detroit:20260429T150000
X-ALT-DESC;FMTTYPE=TEXT/HTML:
CATEGORIES:Police Department
URL;VALUE=URI:https://www.cityofwayland.org/mc-events/open-7am-3pm-57/
METHOD:PUBLISH
END:VEVENT
BEGIN:VEVENT
UID:1209-250
DTSTAMP:20260424T230245Z
SUMMARY:Open 7am - 3pm
LOCATION:
ORGANIZER;CN=kengel:MAILTO:kengel@cityofwayland.org
DTSTART;TZID=America/Detroit:20260430T070000
DTEND;TZID=America/Detroit:20260430T150000
X-ALT-DESC;FMTTYPE=TEXT/HTML:
CATEGORIES:Police Department
URL;VALUE=URI:https://www.cityofwayland.org/mc-events/open-7am-3pm-58/
METHOD:PUBLISH
END:VEVENT
END:VCALENDAR